BEGIN:VCALENDAR
VERSION:2.0
PRODID:-//Welcome to the home of - ECPv6.15.16//NONSGML v1.0//EN
CALSCALE:GREGORIAN
METHOD:PUBLISH
X-WR-CALNAME:Welcome to the home of
X-ORIGINAL-URL:https://corbach.co.uk
X-WR-CALDESC:Events for Welcome to the home of
REFRESH-INTERVAL;VALUE=DURATION:PT1H
X-Robots-Tag:noindex
X-PUBLISHED-TTL:PT1H
BEGIN:VTIMEZONE
TZID:UTC
BEGIN:STANDARD
TZOFFSETFROM:+0000
TZOFFSETTO:+0000
TZNAME:UTC
DTSTART:20250101T000000
END:STANDARD
END:VTIMEZONE
BEGIN:VEVENT
DTSTART;TZID=UTC:20260314T000000
DTEND;TZID=UTC:20260314T235959
DTSTAMP:20260422T021131
CREATED:20260224T192814Z
LAST-MODIFIED:20260224T192814Z
UID:37-1773446400-1773532799@corbach.co.uk
SUMMARY:Mid Somerset Festival
DESCRIPTION:
URL:https://corbach.co.uk/event/mid-somerset-festival/
LOCATION:St Swithin’s Church\, Bath\, United Kingdom
END:VEVENT
BEGIN:VEVENT
DTSTART;TZID=UTC:20260418T190000
DTEND;TZID=UTC:20260418T213000
DTSTAMP:20260422T021131
CREATED:20260224T200139Z
LAST-MODIFIED:20260224T200139Z
UID:45-1776538800-1776547800@corbach.co.uk
SUMMARY:A Feast of A Capella
DESCRIPTION:
URL:https://corbach.co.uk/event/a-feast-of-a-capella/
LOCATION:St. Mary’s Church\, Stafford\, ST16 2AR\, United Kingdom
END:VEVENT
BEGIN:VEVENT
DTSTART;TZID=UTC:20260425T193000
DTEND;TZID=UTC:20260425T220000
DTSTAMP:20260422T021131
CREATED:20260224T200612Z
LAST-MODIFIED:20260224T201420Z
UID:48-1777145400-1777154400@corbach.co.uk
SUMMARY:The Best of Brass and Voice
DESCRIPTION:
URL:https://corbach.co.uk/event/the-best-of-brass-and-voice/
LOCATION:Keele University Chapel\, Keele University\, Newcastle under Lyme\, ST5 5BG\, United Kingdom
END:VEVENT
BEGIN:VEVENT
DTSTART;TZID=UTC:20260829T160000
DTEND;TZID=UTC:20260829T170000
DTSTAMP:20260422T021131
CREATED:20260301T135747Z
LAST-MODIFIED:20260301T135747Z
UID:52-1788019200-1788022800@corbach.co.uk
SUMMARY:Cheddleton Flint Mill
DESCRIPTION:
URL:https://corbach.co.uk/event/cheddleton-flint-mill/
LOCATION:Cheddleton Flint Mill\, Cheddleton Road\, Leek\, Staffordshire\, ST13 7HL\, United Kingdom
END:VEVENT
END:VCALENDAR